BEGIN:VCALENDAR
VERSION:2.0
PRODID:-//eventon.com NONSGML v1.0//EN
CALSCALE:GREGORIAN
METHOD:PUBLISH
BEGIN:VEVENT
UID:69e863d1a3e6c
DTSTAMP:20260422T055945Z
DTSTART:20260422T142000Z
DTEND:20260422T151000Z
LOCATION:
SUMMARY:Yoga & Artistik
DESCRIPTION:Für Kinder von 5 bis 13  Jahre\nhttps://padmayoga.ch/events/y
 oga-artistik-kopie-2/var/ri-9.l-L1
URL:https://padmayoga.ch/events/yoga-artistik-kopie-2/var/ri-9.l-L1
END:VEVENT
END:VCALENDAR