BEGIN:VCALENDAR
VERSION:2.0
PRODID:-//eventon.com NONSGML v1.0//EN
CALSCALE:GREGORIAN
METHOD:PUBLISH
BEGIN:VEVENT
UID:69ed469260365
DTSTAMP:20260425T225618Z
DTSTART:20270210T152000Z
DTEND:20270210T161000Z
LOCATION:
SUMMARY:Yoga & Artistik
DESCRIPTION:Für Kinder von 5 bis 13  Jahre\nhttps://padmayoga.ch/events/y
 oga-artistik-kopie-2/var/ri-51.l-L1
URL:https://padmayoga.ch/events/yoga-artistik-kopie-2/var/ri-51.l-L1
END:VEVENT
END:VCALENDAR