BEGIN:VCALENDAR
VERSION:2.0
PRODID:-//eventon.com NONSGML v1.0//EN
CALSCALE:GREGORIAN
METHOD:PUBLISH
BEGIN:VEVENT
UID:69ece117d20f6
DTSTAMP:20260425T154319Z
DTSTART:20270106T152000Z
DTEND:20270106T161000Z
LOCATION:
SUMMARY:Yoga & Artistik
DESCRIPTION:Für Kinder von 5 bis 13  Jahre\nhttps://padmayoga.ch/events/y
 oga-artistik-kopie-2/var/ri-46.l-L1
URL:https://padmayoga.ch/events/yoga-artistik-kopie-2/var/ri-46.l-L1
END:VEVENT
END:VCALENDAR