BEGIN:VCALENDAR
VERSION:2.0
PRODID:-//eventon.com NONSGML v1.0//EN
CALSCALE:GREGORIAN
METHOD:PUBLISH
BEGIN:VEVENT
UID:69e7f769ec2ad
DTSTAMP:20260421T221713Z
DTSTART:20260318T152000Z
DTEND:20260318T161000Z
LOCATION:
SUMMARY:Yoga & Artistik
DESCRIPTION:Für Kinder von 5 bis 13  Jahre\nhttps://padmayoga.ch/events/y
 oga-artistik-kopie-2/var/ri-4.l-L1
URL:https://padmayoga.ch/events/yoga-artistik-kopie-2/var/ri-4.l-L1
END:VEVENT
END:VCALENDAR