BEGIN:VCALENDAR
VERSION:2.0
PRODID:-//eventon.com NONSGML v1.0//EN
CALSCALE:GREGORIAN
METHOD:PUBLISH
BEGIN:VEVENT
UID:69e9df6b715ec
DTSTAMP:20260423T085923Z
DTSTART:20261118T152000Z
DTEND:20261118T161000Z
LOCATION:
SUMMARY:Yoga & Artistik
DESCRIPTION:Für Kinder von 5 bis 13  Jahre\nhttps://padmayoga.ch/events/y
 oga-artistik-kopie-2/var/ri-39.l-L1
URL:https://padmayoga.ch/events/yoga-artistik-kopie-2/var/ri-39.l-L1
END:VEVENT
END:VCALENDAR