BEGIN:VCALENDAR
VERSION:2.0
PRODID:-//eventon.com NONSGML v1.0//EN
CALSCALE:GREGORIAN
METHOD:PUBLISH
BEGIN:VEVENT
UID:69e8bd8a4b656
DTSTAMP:20260422T122234Z
DTSTART:20260805T142000Z
DTEND:20260805T151000Z
LOCATION:
SUMMARY:Yoga & Artistik
DESCRIPTION:Für Kinder von 5 bis 13  Jahre\nhttps://padmayoga.ch/events/y
 oga-artistik-kopie-2/var/ri-24.l-L1
URL:https://padmayoga.ch/events/yoga-artistik-kopie-2/var/ri-24.l-L1
END:VEVENT
END:VCALENDAR