BEGIN:VCALENDAR
VERSION:2.0
PRODID:-//eventon.com NONSGML v1.0//EN
CALSCALE:GREGORIAN
METHOD:PUBLISH
BEGIN:VEVENT
UID:69e8bd6a8f4a3
DTSTAMP:20260422T122202Z
DTSTART:20260527T142000Z
DTEND:20260527T151000Z
LOCATION:
SUMMARY:Yoga & Artistik
DESCRIPTION:Für Kinder von 5 bis 13  Jahre\nhttps://padmayoga.ch/events/y
 oga-artistik-kopie-2/var/ri-14.l-L1
URL:https://padmayoga.ch/events/yoga-artistik-kopie-2/var/ri-14.l-L1
END:VEVENT
END:VCALENDAR