BEGIN:VCALENDAR
VERSION:2.0
PRODID:-//eventon.com NONSGML v1.0//EN
CALSCALE:GREGORIAN
METHOD:PUBLISH
BEGIN:VEVENT
UID:69e79888af573
DTSTAMP:20260421T153224Z
DTSTART:20260218T152000Z
DTEND:20260218T161000Z
LOCATION:
SUMMARY:Yoga & Artistik
DESCRIPTION:Für Kinder von 5 bis 13  Jahre\nhttps://padmayoga.ch/events/y
 oga-artistik-kopie-2/
URL:https://padmayoga.ch/events/yoga-artistik-kopie-2/
END:VEVENT
END:VCALENDAR