BEGIN:VCALENDAR
VERSION:2.0
PRODID:-//eventon.com NONSGML v1.0//EN
CALSCALE:GREGORIAN
METHOD:PUBLISH
BEGIN:VEVENT
UID:69e792317ddcb
DTSTAMP:20260421T150521Z
DTSTART:20250804T181500Z
DTEND:20250804T193000Z
LOCATION:
SUMMARY:Hatha Yoga
DESCRIPTION:Hatha Yoga\nhttps://padmayoga.ch/events/hatha-yoga-abend/
URL:https://padmayoga.ch/events/hatha-yoga-abend/
END:VEVENT
END:VCALENDAR