BEGIN:VCALENDAR
VERSION:2.0
PRODID:-//eventon.com NONSGML v1.0//EN
CALSCALE:GREGORIAN
METHOD:PUBLISH
BEGIN:VEVENT
UID:69e77976b355d
DTSTAMP:20260421T131950Z
DTSTART:20260407T180000Z
DTEND:20260407T191500Z
LOCATION:
SUMMARY:Yin Yoga
DESCRIPTION:Yin Yoga schafft Raum für Ruhe und Regeneration – eine ideal
 e Ergänzung zu aktiveren Yoga-Stilen oder Sportarten. Die Sequenzen werden
  individuell gestaltet und sind offen für alle.\nhttps://padmayoga.ch/even
 ts/yin-yoga/var/ri-48.l-L1
URL:https://padmayoga.ch/events/yin-yoga/var/ri-48.l-L1
END:VEVENT
END:VCALENDAR