BEGIN:VCALENDAR
VERSION:2.0
PRODID:-//eventon.com NONSGML v1.0//EN
CALSCALE:GREGORIAN
METHOD:PUBLISH
BEGIN:VEVENT
UID:69e77b4018a4d
DTSTAMP:20260421T132728Z
DTSTART:20250506T180000Z
DTEND:20250506T191500Z
LOCATION:
SUMMARY:Yin Yoga
DESCRIPTION:Yin Yoga schafft Raum für Ruhe und Regeneration – eine ideal
 e Ergänzung zu aktiveren Yoga-Stilen oder Sportarten. Die Sequenzen werden
  individuell gestaltet und sind offen für alle.\nhttps://padmayoga.ch/even
 ts/yin-yoga/
URL:https://padmayoga.ch/events/yin-yoga/
END:VEVENT
END:VCALENDAR