BEGIN:VCALENDAR
VERSION:2.0
PRODID:-//eventon.com NONSGML v1.0//EN
CALSCALE:GREGORIAN
METHOD:PUBLISH
BEGIN:VEVENT
UID:69e8eed4dbf6c
DTSTAMP:20260422T155252Z
DTSTART:20260513T132000Z
DTEND:20260513T141000Z
LOCATION:
SUMMARY:Yoga & Artistik
DESCRIPTION:Für Kinder von 3.5 bis 13  Jahre\nhttps://padmayoga.ch/events
 /yoga-artistik-kopie/var/ri-8.l-L1
URL:https://padmayoga.ch/events/yoga-artistik-kopie/var/ri-8.l-L1
END:VEVENT
END:VCALENDAR