BEGIN:VCALENDAR
VERSION:2.0
PRODID:-//eventon.com NONSGML v1.0//EN
CALSCALE:GREGORIAN
METHOD:PUBLISH
BEGIN:VEVENT
UID:69e8bce02f0ef
DTSTAMP:20260422T121944Z
DTSTART:20260415T132000Z
DTEND:20260415T141000Z
LOCATION:
SUMMARY:Yoga & Artistik
DESCRIPTION:Für Kinder von 3.5 bis 13  Jahre\nhttps://padmayoga.ch/events
 /yoga-artistik-kopie/var/ri-4.l-L1
URL:https://padmayoga.ch/events/yoga-artistik-kopie/var/ri-4.l-L1
END:VEVENT
END:VCALENDAR