BEGIN:VCALENDAR
VERSION:2.0
PRODID:-//eventon.com NONSGML v1.0//EN
CALSCALE:GREGORIAN
METHOD:PUBLISH
BEGIN:VEVENT
UID:69e8ef9aa997b
DTSTAMP:20260422T155610Z
DTSTART:20260318T142000Z
DTEND:20260318T151000Z
LOCATION:
SUMMARY:Yoga & Artistik
DESCRIPTION:Für Kinder von 3.5 bis 13  Jahre\nhttps://padmayoga.ch/events
 /yoga-artistik-kopie/
URL:https://padmayoga.ch/events/yoga-artistik-kopie/
END:VEVENT
END:VCALENDAR