BEGIN:VCALENDAR
VERSION:2.0
PRODID:-//eventon.com NONSGML v1.0//EN
CALSCALE:GREGORIAN
METHOD:PUBLISH
BEGIN:VEVENT
UID:69ed61399b41f
DTSTAMP:20260426T005001Z
DTSTART:20270325T143000Z
DTEND:20270325T152000Z
LOCATION:
SUMMARY:Yoga & Artistik
DESCRIPTION:Für Kinder von 5 bis 13  Jahre\nhttps://padmayoga.ch/events/y
 oga-artistik-1520/var/ri-53.l-L1
URL:https://padmayoga.ch/events/yoga-artistik-1520/var/ri-53.l-L1
END:VEVENT
END:VCALENDAR