BEGIN:VCALENDAR
VERSION:2.0
PRODID:-//eventon.com NONSGML v1.0//EN
CALSCALE:GREGORIAN
METHOD:PUBLISH
BEGIN:VEVENT
UID:69e9ffdac8cdd
DTSTAMP:20260423T111746Z
DTSTART:20261203T143000Z
DTEND:20261203T152000Z
LOCATION:
SUMMARY:Yoga & Artistik
DESCRIPTION:Für Kinder von 5 bis 13  Jahre\nhttps://padmayoga.ch/events/y
 oga-artistik-1520/var/ri-37.l-L1
URL:https://padmayoga.ch/events/yoga-artistik-1520/var/ri-37.l-L1
END:VEVENT
END:VCALENDAR