BEGIN:VCALENDAR
VERSION:2.0
PRODID:-//eventon.com NONSGML v1.0//EN
CALSCALE:GREGORIAN
METHOD:PUBLISH
BEGIN:VEVENT
UID:69e9980253846
DTSTAMP:20260423T035442Z
DTSTART:20261029T143000Z
DTEND:20261029T152000Z
LOCATION:
SUMMARY:Yoga & Artistik
DESCRIPTION:Für Kinder von 5 bis 13  Jahre\nhttps://padmayoga.ch/events/y
 oga-artistik-1520/var/ri-32.l-L1
URL:https://padmayoga.ch/events/yoga-artistik-1520/var/ri-32.l-L1
END:VEVENT
END:VCALENDAR