BEGIN:VCALENDAR
VERSION:2.0
PRODID:-//eventon.com NONSGML v1.0//EN
CALSCALE:GREGORIAN
METHOD:PUBLISH
BEGIN:VEVENT
UID:69e9056e9c8bb
DTSTAMP:20260422T172918Z
DTSTART:20260910T133000Z
DTEND:20260910T142000Z
LOCATION:
SUMMARY:Yoga & Artistik
DESCRIPTION:Für Kinder von 5 bis 13  Jahre\nhttps://padmayoga.ch/events/y
 oga-artistik-1520/var/ri-25.l-L1
URL:https://padmayoga.ch/events/yoga-artistik-1520/var/ri-25.l-L1
END:VEVENT
END:VCALENDAR