BEGIN:VCALENDAR
VERSION:2.0
PRODID:-//eventon.com NONSGML v1.0//EN
CALSCALE:GREGORIAN
METHOD:PUBLISH
BEGIN:VEVENT
UID:69eb40efbbfec
DTSTAMP:20260424T100743Z
DTSTART:20260402T133000Z
DTEND:20260402T142000Z
LOCATION:
SUMMARY:Yoga & Artistik
DESCRIPTION:Für Kinder von 5 bis 13  Jahre\nhttps://padmayoga.ch/events/y
 oga-artistik-1520/var/ri-2.l-L1
URL:https://padmayoga.ch/events/yoga-artistik-1520/var/ri-2.l-L1
END:VEVENT
END:VCALENDAR