BEGIN:VCALENDAR
VERSION:2.0
PRODID:-//eventon.com NONSGML v1.0//EN
CALSCALE:GREGORIAN
METHOD:PUBLISH
BEGIN:VEVENT
UID:69e8bcc4f3967
DTSTAMP:20260422T121916Z
DTSTART:20260730T133000Z
DTEND:20260730T142000Z
LOCATION:
SUMMARY:Yoga & Artistik
DESCRIPTION:Für Kinder von 5 bis 13  Jahre\nhttps://padmayoga.ch/events/y
 oga-artistik-1520/var/ri-19.l-L1
URL:https://padmayoga.ch/events/yoga-artistik-1520/var/ri-19.l-L1
END:VEVENT
END:VCALENDAR