BEGIN:VCALENDAR
VERSION:2.0
PRODID:-//eventon.com NONSGML v1.0//EN
CALSCALE:GREGORIAN
METHOD:PUBLISH
BEGIN:VEVENT
UID:69eb57b20aeeb
DTSTAMP:20260424T114450Z
DTSTART:20260716T133000Z
DTEND:20260716T142000Z
LOCATION:
SUMMARY:Yoga & Artistik
DESCRIPTION:Für Kinder von 5 bis 13  Jahre\nhttps://padmayoga.ch/events/y
 oga-artistik-1520/var/ri-17.l-L1
URL:https://padmayoga.ch/events/yoga-artistik-1520/var/ri-17.l-L1
END:VEVENT
END:VCALENDAR