BEGIN:VCALENDAR
VERSION:2.0
PRODID:-//eventon.com NONSGML v1.0//EN
CALSCALE:GREGORIAN
METHOD:PUBLISH
BEGIN:VEVENT
UID:69e8a2097cc2b
DTSTAMP:20260422T102513Z
DTSTART:20260319T143000Z
DTEND:20260319T152000Z
LOCATION:
SUMMARY:Yoga & Artistik
DESCRIPTION:Für Kinder von 5 bis 13  Jahre\nhttps://padmayoga.ch/events/y
 oga-artistik-1520/
URL:https://padmayoga.ch/events/yoga-artistik-1520/
END:VEVENT
END:VCALENDAR