BEGIN:VCALENDAR
VERSION:2.0
PRODID:-//eventon.com NONSGML v1.0//EN
CALSCALE:GREGORIAN
METHOD:PUBLISH
BEGIN:VEVENT
UID:69e65a701e1fd
DTSTAMP:20260420T165512Z
DTSTART:20260713T164500Z
DTEND:20260713T180000Z
LOCATION:
SUMMARY:Hatha Yoga
DESCRIPTION:Hatha Yoga\nhttps://padmayoga.ch/events/hatha-yoga/var/ri-49.l-
 L1
URL:https://padmayoga.ch/events/hatha-yoga/var/ri-49.l-L1
END:VEVENT
END:VCALENDAR