BEGIN:VCALENDAR
VERSION:2.0
PRODID:-//eventon.com NONSGML v1.0//EN
CALSCALE:GREGORIAN
METHOD:PUBLISH
BEGIN:VEVENT
UID:69e65aa2cc824
DTSTAMP:20260420T165602Z
DTSTART:20260706T164500Z
DTEND:20260706T180000Z
LOCATION:
SUMMARY:Hatha Yoga
DESCRIPTION:Hatha Yoga\nhttps://padmayoga.ch/events/hatha-yoga/var/ri-48.l-
 L1
URL:https://padmayoga.ch/events/hatha-yoga/var/ri-48.l-L1
END:VEVENT
END:VCALENDAR