BEGIN:VCALENDAR
VERSION:2.0
PRODID:-//eventon.com NONSGML v1.0//EN
CALSCALE:GREGORIAN
METHOD:PUBLISH
BEGIN:VEVENT
UID:69eb5d093100a
DTSTAMP:20260424T120737Z
DTSTART:20260427T164500Z
DTEND:20260427T180000Z
LOCATION:
SUMMARY:Hatha Yoga
DESCRIPTION:Hatha Yoga\nhttps://padmayoga.ch/events/hatha-yoga/var/ri-38.l-
 L1
URL:https://padmayoga.ch/events/hatha-yoga/var/ri-38.l-L1
END:VEVENT
END:VCALENDAR