BEGIN:VCALENDAR
VERSION:2.0
PRODID:-//eventon.com NONSGML v1.0//EN
CALSCALE:GREGORIAN
METHOD:PUBLISH
BEGIN:VEVENT
UID:69e88e7f9e78c
DTSTAMP:20260422T090151Z
DTSTART:20260420T164500Z
DTEND:20260420T180000Z
LOCATION:
SUMMARY:Hatha Yoga
DESCRIPTION:Hatha Yoga\nhttps://padmayoga.ch/events/hatha-yoga/var/ri-37.l-
 L1
URL:https://padmayoga.ch/events/hatha-yoga/var/ri-37.l-L1
END:VEVENT
END:VCALENDAR