BEGIN:VCALENDAR
VERSION:2.0
PRODID:-//eventon.com NONSGML v1.0//EN
CALSCALE:GREGORIAN
METHOD:PUBLISH
BEGIN:VEVENT
UID:69e88e3d7e082
DTSTAMP:20260422T090045Z
DTSTART:20250804T164500Z
DTEND:20250804T180000Z
LOCATION:
SUMMARY:Hatha Yoga
DESCRIPTION:Hatha Yoga\nhttps://padmayoga.ch/events/hatha-yoga/
URL:https://padmayoga.ch/events/hatha-yoga/
END:VEVENT
END:VCALENDAR