BEGIN:VCALENDAR
VERSION:2.0
PRODID:-//eventon.com NONSGML v1.0//EN
CALSCALE:GREGORIAN
METHOD:PUBLISH
BEGIN:VEVENT
UID:69ec33f6f35a2
DTSTAMP:20260425T032438Z
DTSTART:20261007T152000Z
DTEND:20261007T161000Z
LOCATION:
SUMMARY:Yoga & Artistik
DESCRIPTION:Für Kinder von 9 bis 17  Jahre\nhttps://padmayoga.ch/events/y
 oga-artistik-1720/var/ri-51.l-L1
URL:https://padmayoga.ch/events/yoga-artistik-1720/var/ri-51.l-L1
END:VEVENT
END:VCALENDAR