BEGIN:VCALENDAR
VERSION:2.0
PRODID:-//eventon.com NONSGML v1.0//EN
CALSCALE:GREGORIAN
METHOD:PUBLISH
BEGIN:VEVENT
UID:69eb69b6a6d5d
DTSTAMP:20260424T130142Z
DTSTART:20260429T152000Z
DTEND:20260429T161000Z
LOCATION:
SUMMARY:Yoga & Artistik
DESCRIPTION:Für Kinder von 9 bis 17  Jahre\nhttps://padmayoga.ch/events/y
 oga-artistik-1720/var/ri-5.l-L1
URL:https://padmayoga.ch/events/yoga-artistik-1720/var/ri-5.l-L1
END:VEVENT
END:VCALENDAR