BEGIN:VCALENDAR
VERSION:2.0
PRODID:-//eventon.com NONSGML v1.0//EN
CALSCALE:GREGORIAN
METHOD:PUBLISH
BEGIN:VEVENT
UID:69eb2a4f92507
DTSTAMP:20260424T083111Z
DTSTART:20260625T152000Z
DTEND:20260625T161000Z
LOCATION:
SUMMARY:Yoga & Artistik
DESCRIPTION:Für Kinder von 9 bis 17  Jahre\nhttps://padmayoga.ch/events/y
 oga-artistik-1720/var/ri-22.l-L1
URL:https://padmayoga.ch/events/yoga-artistik-1720/var/ri-22.l-L1
END:VEVENT
END:VCALENDAR