BEGIN:VCALENDAR
VERSION:2.0
PRODID:-//eventon.com NONSGML v1.0//EN
CALSCALE:GREGORIAN
METHOD:PUBLISH
BEGIN:VEVENT
UID:69e8bce9e2dbb
DTSTAMP:20260422T121953Z
DTSTART:20260618T152000Z
DTEND:20260618T161000Z
LOCATION:
SUMMARY:Yoga & Artistik
DESCRIPTION:Für Kinder von 9 bis 17  Jahre\nhttps://padmayoga.ch/events/y
 oga-artistik-1720/var/ri-20.l-L1
URL:https://padmayoga.ch/events/yoga-artistik-1720/var/ri-20.l-L1
END:VEVENT
END:VCALENDAR