BEGIN:VCALENDAR
VERSION:2.0
PRODID:-//eventon.com NONSGML v1.0//EN
CALSCALE:GREGORIAN
METHOD:PUBLISH
BEGIN:VEVENT
UID:69eb3f8897a51
DTSTAMP:20260424T100144Z
DTSTART:20260514T152000Z
DTEND:20260514T161000Z
LOCATION:
SUMMARY:Yoga & Artistik
DESCRIPTION:Für Kinder von 9 bis 17  Jahre\nhttps://padmayoga.ch/events/y
 oga-artistik-1720/var/ri-10.l-L1
URL:https://padmayoga.ch/events/yoga-artistik-1720/var/ri-10.l-L1
END:VEVENT
END:VCALENDAR