BEGIN:VCALENDAR
VERSION:2.0
PRODID:-//eventon.com NONSGML v1.0//EN
CALSCALE:GREGORIAN
METHOD:PUBLISH
BEGIN:VEVENT
UID:69e88e88e3b67
DTSTAMP:20260422T090200Z
DTSTART:20260409T152000Z
DTEND:20260409T161000Z
LOCATION:
SUMMARY:Yoga & Artistik
DESCRIPTION:Für Kinder von 9 bis 17  Jahre\nhttps://padmayoga.ch/events/y
 oga-artistik-1720/
URL:https://padmayoga.ch/events/yoga-artistik-1720/
END:VEVENT
END:VCALENDAR