BEGIN:VCALENDAR
VERSION:2.0
PRODID:-//eventon.com NONSGML v1.0//EN
CALSCALE:GREGORIAN
METHOD:PUBLISH
BEGIN:VEVENT
UID:69ed24cd5e4a1
DTSTAMP:20260425T203213Z
DTSTART:20270114T152500Z
DTEND:20270114T161500Z
LOCATION:
SUMMARY:Yoga & Artistik
DESCRIPTION:Für Kinder von 5 bis 13  Jahre\nhttps://padmayoga.ch/events/y
 oga-artistik-1620/var/ri-44.l-L1
URL:https://padmayoga.ch/events/yoga-artistik-1620/var/ri-44.l-L1
END:VEVENT
END:VCALENDAR