BEGIN:VCALENDAR
VERSION:2.0
PRODID:-//eventon.com NONSGML v1.0//EN
CALSCALE:GREGORIAN
METHOD:PUBLISH
BEGIN:VEVENT
UID:69ecc58a0c489
DTSTAMP:20260425T134546Z
DTSTART:20261231T152500Z
DTEND:20261231T161500Z
LOCATION:
SUMMARY:Yoga & Artistik
DESCRIPTION:Für Kinder von 5 bis 13  Jahre\nhttps://padmayoga.ch/events/y
 oga-artistik-1620/var/ri-42.l-L1
URL:https://padmayoga.ch/events/yoga-artistik-1620/var/ri-42.l-L1
END:VEVENT
END:VCALENDAR