BEGIN:VCALENDAR
VERSION:2.0
PRODID:-//eventon.com NONSGML v1.0//EN
CALSCALE:GREGORIAN
METHOD:PUBLISH
BEGIN:VEVENT
UID:69eb29dbc26f1
DTSTAMP:20260424T082915Z
DTSTART:20260409T142500Z
DTEND:20260409T151500Z
LOCATION:
SUMMARY:Yoga & Artistik
DESCRIPTION:Für Kinder von 5 bis 13  Jahre\nhttps://padmayoga.ch/events/y
 oga-artistik-1620/var/ri-4.l-L1
URL:https://padmayoga.ch/events/yoga-artistik-1620/var/ri-4.l-L1
END:VEVENT
END:VCALENDAR