BEGIN:VCALENDAR
VERSION:2.0
PRODID:-//eventon.com NONSGML v1.0//EN
CALSCALE:GREGORIAN
METHOD:PUBLISH
BEGIN:VEVENT
UID:69eb6b48205ca
DTSTAMP:20260424T130824Z
DTSTART:20260402T142500Z
DTEND:20260402T151500Z
LOCATION:
SUMMARY:Yoga & Artistik
DESCRIPTION:Für Kinder von 5 bis 13  Jahre\nhttps://padmayoga.ch/events/y
 oga-artistik-1620/var/ri-3.l-L1
URL:https://padmayoga.ch/events/yoga-artistik-1620/var/ri-3.l-L1
END:VEVENT
END:VCALENDAR