BEGIN:VCALENDAR
VERSION:2.0
PRODID:-//eventon.com NONSGML v1.0//EN
CALSCALE:GREGORIAN
METHOD:PUBLISH
BEGIN:VEVENT
UID:69eb950bb0474
DTSTAMP:20260424T160635Z
DTSTART:20260924T142500Z
DTEND:20260924T151500Z
LOCATION:
SUMMARY:Yoga & Artistik
DESCRIPTION:Für Kinder von 5 bis 13  Jahre\nhttps://padmayoga.ch/events/y
 oga-artistik-1620/var/ri-28.l-L1
URL:https://padmayoga.ch/events/yoga-artistik-1620/var/ri-28.l-L1
END:VEVENT
END:VCALENDAR