BEGIN:VCALENDAR
VERSION:2.0
PRODID:-//eventon.com NONSGML v1.0//EN
CALSCALE:GREGORIAN
METHOD:PUBLISH
BEGIN:VEVENT
UID:69e8bd4fb48c7
DTSTAMP:20260422T122135Z
DTSTART:20260813T142500Z
DTEND:20260813T151500Z
LOCATION:
SUMMARY:Yoga & Artistik
DESCRIPTION:Für Kinder von 5 bis 13  Jahre\nhttps://padmayoga.ch/events/y
 oga-artistik-1620/var/ri-22.l-L1
URL:https://padmayoga.ch/events/yoga-artistik-1620/var/ri-22.l-L1
END:VEVENT
END:VCALENDAR