BEGIN:VCALENDAR
VERSION:2.0
PRODID:-//eventon.com NONSGML v1.0//EN
CALSCALE:GREGORIAN
METHOD:PUBLISH
BEGIN:VEVENT
UID:69eb2a5dc86c8
DTSTAMP:20260424T083125Z
DTSTART:20260625T142500Z
DTEND:20260625T151500Z
LOCATION:
SUMMARY:Yoga & Artistik
DESCRIPTION:Für Kinder von 5 bis 13  Jahre\nhttps://padmayoga.ch/events/y
 oga-artistik-1620/var/ri-15.l-L1
URL:https://padmayoga.ch/events/yoga-artistik-1620/var/ri-15.l-L1
END:VEVENT
END:VCALENDAR