BEGIN:VCALENDAR
VERSION:2.0
PRODID:-//eventon.com NONSGML v1.0//EN
CALSCALE:GREGORIAN
METHOD:PUBLISH
BEGIN:VEVENT
UID:69eb2dd8191ad
DTSTAMP:20260424T084616Z
DTSTART:20260618T142500Z
DTEND:20260618T151500Z
LOCATION:
SUMMARY:Yoga & Artistik
DESCRIPTION:Für Kinder von 5 bis 13  Jahre\nhttps://padmayoga.ch/events/y
 oga-artistik-1620/var/ri-14.l-L1
URL:https://padmayoga.ch/events/yoga-artistik-1620/var/ri-14.l-L1
END:VEVENT
END:VCALENDAR