BEGIN:VCALENDAR
VERSION:2.0
PRODID:-//eventon.com NONSGML v1.0//EN
CALSCALE:GREGORIAN
METHOD:PUBLISH
BEGIN:VEVENT
UID:69e8d6972f4fd
DTSTAMP:20260422T140927Z
DTSTART:20260312T152500Z
DTEND:20260312T161500Z
LOCATION:
SUMMARY:Yoga & Artistik
DESCRIPTION:Für Kinder von 5 bis 13  Jahre\nhttps://padmayoga.ch/events/y
 oga-artistik-1620/
URL:https://padmayoga.ch/events/yoga-artistik-1620/
END:VEVENT
END:VCALENDAR