BEGIN:VCALENDAR
VERSION:2.0
PRODID:-//eventon.com NONSGML v1.0//EN
CALSCALE:GREGORIAN
METHOD:PUBLISH
BEGIN:VEVENT
UID:69ed7f1a35937
DTSTAMP:20260426T025730Z
DTSTART:20270309T173000Z
DTEND:20270309T183000Z
LOCATION:
SUMMARY:Vinyasa Flow
DESCRIPTION:Vinyasa Flow\nhttps://padmayoga.ch/events/vinyasa-flow-di-2/var
 /ri-46.l-L1
URL:https://padmayoga.ch/events/vinyasa-flow-di-2/var/ri-46.l-L1
END:VEVENT
END:VCALENDAR