BEGIN:VCALENDAR
VERSION:2.0
PRODID:-//eventon.com NONSGML v1.0//EN
CALSCALE:GREGORIAN
METHOD:PUBLISH
BEGIN:VEVENT
UID:69ed6a16c731d
DTSTAMP:20260426T012750Z
DTSTART:20270302T173000Z
DTEND:20270302T183000Z
LOCATION:
SUMMARY:Vinyasa Flow
DESCRIPTION:Vinyasa Flow\nhttps://padmayoga.ch/events/vinyasa-flow-di-2/var
 /ri-45.l-L1
URL:https://padmayoga.ch/events/vinyasa-flow-di-2/var/ri-45.l-L1
END:VEVENT
END:VCALENDAR