BEGIN:VCALENDAR
VERSION:2.0
PRODID:-//eventon.com NONSGML v1.0//EN
CALSCALE:GREGORIAN
METHOD:PUBLISH
BEGIN:VEVENT
UID:69ed55f05fc7d
DTSTAMP:20260426T000152Z
DTSTART:20270223T173000Z
DTEND:20270223T183000Z
LOCATION:
SUMMARY:Vinyasa Flow
DESCRIPTION:Vinyasa Flow\nhttps://padmayoga.ch/events/vinyasa-flow-di-2/var
 /ri-44.l-L1
URL:https://padmayoga.ch/events/vinyasa-flow-di-2/var/ri-44.l-L1
END:VEVENT
END:VCALENDAR