BEGIN:VCALENDAR
VERSION:2.0
PRODID:-//eventon.com NONSGML v1.0//EN
CALSCALE:GREGORIAN
METHOD:PUBLISH
BEGIN:VEVENT
UID:69ed15ee9b6ac
DTSTAMP:20260425T192846Z
DTSTART:20270202T173000Z
DTEND:20270202T183000Z
LOCATION:
SUMMARY:Vinyasa Flow
DESCRIPTION:Vinyasa Flow\nhttps://padmayoga.ch/events/vinyasa-flow-di-2/var
 /ri-41.l-L1
URL:https://padmayoga.ch/events/vinyasa-flow-di-2/var/ri-41.l-L1
END:VEVENT
END:VCALENDAR