BEGIN:VCALENDAR
VERSION:2.0
PRODID:-//eventon.com NONSGML v1.0//EN
CALSCALE:GREGORIAN
METHOD:PUBLISH
BEGIN:VEVENT
UID:69ed02000a068
DTSTAMP:20260425T180344Z
DTSTART:20270126T173000Z
DTEND:20270126T183000Z
LOCATION:
SUMMARY:Vinyasa Flow
DESCRIPTION:Vinyasa Flow\nhttps://padmayoga.ch/events/vinyasa-flow-di-2/var
 /ri-40.l-L1
URL:https://padmayoga.ch/events/vinyasa-flow-di-2/var/ri-40.l-L1
END:VEVENT
END:VCALENDAR