BEGIN:VCALENDAR
VERSION:2.0
PRODID:-//eventon.com NONSGML v1.0//EN
CALSCALE:GREGORIAN
METHOD:PUBLISH
BEGIN:VEVENT
UID:69ece9e30bd6e
DTSTAMP:20260425T162051Z
DTSTART:20270119T173000Z
DTEND:20270119T183000Z
LOCATION:
SUMMARY:Vinyasa Flow
DESCRIPTION:Vinyasa Flow\nhttps://padmayoga.ch/events/vinyasa-flow-di-2/var
 /ri-39.l-L1
URL:https://padmayoga.ch/events/vinyasa-flow-di-2/var/ri-39.l-L1
END:VEVENT
END:VCALENDAR