BEGIN:VCALENDAR
VERSION:2.0
PRODID:-//eventon.com NONSGML v1.0//EN
CALSCALE:GREGORIAN
METHOD:PUBLISH
BEGIN:VEVENT
UID:69ecc50e4ddd5
DTSTAMP:20260425T134342Z
DTSTART:20270105T173000Z
DTEND:20270105T183000Z
LOCATION:
SUMMARY:Vinyasa Flow
DESCRIPTION:Vinyasa Flow\nhttps://padmayoga.ch/events/vinyasa-flow-di-2/var
 /ri-37.l-L1
URL:https://padmayoga.ch/events/vinyasa-flow-di-2/var/ri-37.l-L1
END:VEVENT
END:VCALENDAR