BEGIN:VCALENDAR
VERSION:2.0
PRODID:-//eventon.com NONSGML v1.0//EN
CALSCALE:GREGORIAN
METHOD:PUBLISH
BEGIN:VEVENT
UID:69ec9acb19836
DTSTAMP:20260425T104323Z
DTSTART:20261222T173000Z
DTEND:20261222T183000Z
LOCATION:
SUMMARY:Vinyasa Flow
DESCRIPTION:Vinyasa Flow\nhttps://padmayoga.ch/events/vinyasa-flow-di-2/var
 /ri-35.l-L1
URL:https://padmayoga.ch/events/vinyasa-flow-di-2/var/ri-35.l-L1
END:VEVENT
END:VCALENDAR